BEGIN:VCALENDAR
VERSION:2.0
PRODID:-//Bucharest Business School - ECPv6.15.20//NONSGML v1.0//EN
CALSCALE:GREGORIAN
METHOD:PUBLISH
X-WR-CALNAME:Bucharest Business School
X-ORIGINAL-URL:https://bbs.ase.ro
X-WR-CALDESC:Events for Bucharest Business School
REFRESH-INTERVAL;VALUE=DURATION:PT1H
X-Robots-Tag:noindex
X-PUBLISHED-TTL:PT1H
BEGIN:VTIMEZONE
TZID:Europe/Bucharest
BEGIN:DAYLIGHT
TZOFFSETFROM:+0200
TZOFFSETTO:+0300
TZNAME:EEST
DTSTART:20230326T010000
END:DAYLIGHT
BEGIN:STANDARD
TZOFFSETFROM:+0300
TZOFFSETTO:+0200
TZNAME:EET
DTSTART:20231029T010000
END:STANDARD
BEGIN:DAYLIGHT
TZOFFSETFROM:+0200
TZOFFSETTO:+0300
TZNAME:EEST
DTSTART:20240331T010000
END:DAYLIGHT
BEGIN:STANDARD
TZOFFSETFROM:+0300
TZOFFSETTO:+0200
TZNAME:EET
DTSTART:20241027T010000
END:STANDARD
BEGIN:DAYLIGHT
TZOFFSETFROM:+0200
TZOFFSETTO:+0300
TZNAME:EEST
DTSTART:20250330T010000
END:DAYLIGHT
BEGIN:STANDARD
TZOFFSETFROM:+0300
TZOFFSETTO:+0200
TZNAME:EET
DTSTART:20251026T010000
END:STANDARD
END:VTIMEZONE
BEGIN:VEVENT
DTSTART;TZID=Europe/Bucharest:20240425T190000
DTEND;TZID=Europe/Bucharest:20240425T220000
DTSTAMP:20260423T020122
CREATED:20240326T104710Z
LAST-MODIFIED:20240403T073858Z
UID:610-1714071600-1714082400@bbs.ase.ro
SUMMARY:BBS SPRING GET TOGETHER
DESCRIPTION:REGISTRATIONS NOW OPENBBS SPRING GET TOGETHER0000Days00Hrs00Min00Sec📣📣📣📣 \n“Spring Get Together”! for the Bucharest Business School (BBS @ ASE) community! \nSpecial thanks to mindit.io\, our hosts for the event. \nREGISTRATION HERE \n  \nIt will be an excellent opportunity to catch up\, have a glass of wine and meet old friends and make new ones. We are starting enrollment to all Bucharest Business School (BBS @ ASE) programs and we would love to meet you and your friends that might be interested in joining our community\, so feel free to invite them.
URL:https://bbs.ase.ro/event/bbs-spring-get-together/
LOCATION:mindit.io\, 5 intrarea I. L. Caragiale\, Bucharest\, District\, 020047\, Romania
CATEGORIES:BBS Event
ATTACH;FMTTYPE=image/png:https://bbs.ase.ro/wp-content/uploads/2016/03/BBS-SPRING-GET-TOGETHER.png
ORGANIZER;CN="Bucharest Business School":MAILTO:office@bbs.ase.ro
END:VEVENT
END:VCALENDAR