BEGIN:VCALENDAR
VERSION:2.0
PRODID:-//Bucharest Business School - ECPv6.15.20//NONSGML v1.0//EN
CALSCALE:GREGORIAN
METHOD:PUBLISH
X-ORIGINAL-URL:https://bbs.ase.ro
X-WR-CALDESC:Events for Bucharest Business School
REFRESH-INTERVAL;VALUE=DURATION:PT1H
X-Robots-Tag:noindex
X-PUBLISHED-TTL:PT1H
BEGIN:VTIMEZONE
TZID:Europe/Bucharest
BEGIN:DAYLIGHT
TZOFFSETFROM:+0200
TZOFFSETTO:+0300
TZNAME:EEST
DTSTART:20230326T010000
END:DAYLIGHT
BEGIN:STANDARD
TZOFFSETFROM:+0300
TZOFFSETTO:+0200
TZNAME:EET
DTSTART:20231029T010000
END:STANDARD
BEGIN:DAYLIGHT
TZOFFSETFROM:+0200
TZOFFSETTO:+0300
TZNAME:EEST
DTSTART:20240331T010000
END:DAYLIGHT
BEGIN:STANDARD
TZOFFSETFROM:+0300
TZOFFSETTO:+0200
TZNAME:EET
DTSTART:20241027T010000
END:STANDARD
BEGIN:DAYLIGHT
TZOFFSETFROM:+0200
TZOFFSETTO:+0300
TZNAME:EEST
DTSTART:20250330T010000
END:DAYLIGHT
BEGIN:STANDARD
TZOFFSETFROM:+0300
TZOFFSETTO:+0200
TZNAME:EET
DTSTART:20251026T010000
END:STANDARD
END:VTIMEZONE
BEGIN:VEVENT
DTSTART;TZID=Europe/Bucharest:20241204T190000
DTEND;TZID=Europe/Bucharest:20241204T220000
DTSTAMP:20260420T060835
CREATED:20250902T085807Z
LAST-MODIFIED:20250909T192538Z
UID:9978-1733338800-1733349600@bbs.ase.ro
SUMMARY:Christmas Party@Groupama
DESCRIPTION:On December 4th\, the Alumni FABIZ\, Faculty of Business Administration in foreign languages (FABIZ-ASE) & Bucharest Business School (BBS @ ASE) alumni reunited for a festive celebration at the elegant Groupama building\, made possible through the generosity of our alumna Judith Kis. \nThank you to everyone who joined and made this gathering memorable. Here`s to continuing our tradition and staying connecting in the New Year! \nHappy Holidays! 🎄
URL:https://bbs.ase.ro/event/9978/
LOCATION:Groupama\, Strada Mihai Eminescu 45\, Bucharest\, Bucharest\, Romania
CATEGORIES:BBS Event
ATTACH;FMTTYPE=image/jpeg:https://bbs.ase.ro/wp-content/uploads/2025/09/Copie-a-fisierului-1732709493817-1.jpg
END:VEVENT
END:VCALENDAR