BEGIN:VCALENDAR
VERSION:2.0
PRODID:-//Bucharest Business School - ECPv6.15.20//NONSGML v1.0//EN
CALSCALE:GREGORIAN
METHOD:PUBLISH
X-WR-CALNAME:Bucharest Business School
X-ORIGINAL-URL:https://bbs.ase.ro
X-WR-CALDESC:Events for Bucharest Business School
REFRESH-INTERVAL;VALUE=DURATION:PT1H
X-Robots-Tag:noindex
X-PUBLISHED-TTL:PT1H
BEGIN:VTIMEZONE
TZID:Europe/Bucharest
BEGIN:DAYLIGHT
TZOFFSETFROM:+0200
TZOFFSETTO:+0300
TZNAME:EEST
DTSTART:20230326T010000
END:DAYLIGHT
BEGIN:STANDARD
TZOFFSETFROM:+0300
TZOFFSETTO:+0200
TZNAME:EET
DTSTART:20231029T010000
END:STANDARD
BEGIN:DAYLIGHT
TZOFFSETFROM:+0200
TZOFFSETTO:+0300
TZNAME:EEST
DTSTART:20240331T010000
END:DAYLIGHT
BEGIN:STANDARD
TZOFFSETFROM:+0300
TZOFFSETTO:+0200
TZNAME:EET
DTSTART:20241027T010000
END:STANDARD
BEGIN:DAYLIGHT
TZOFFSETFROM:+0200
TZOFFSETTO:+0300
TZNAME:EEST
DTSTART:20250330T010000
END:DAYLIGHT
BEGIN:STANDARD
TZOFFSETFROM:+0300
TZOFFSETTO:+0200
TZNAME:EET
DTSTART:20251026T010000
END:STANDARD
END:VTIMEZONE
BEGIN:VEVENT
DTSTART;VALUE=DATE:20241003
DTEND;VALUE=DATE:20241004
DTSTAMP:20260422T161322
CREATED:20250717T081322Z
LAST-MODIFIED:20250909T192543Z
UID:9665-1727913600-1727999999@bbs.ase.ro
SUMMARY:FOREVER ALUMNI @ Artmark
DESCRIPTION:On October 3rd\, as the university year began\, we welcomed the autumn season with our “Alumni Forever” event at the renowned A10 by Artmark | Auction House. Alumni from the Faculty of Business Administration in foreign languages (FABIZ-ASE)\, Bucharest Business School (BBS @ ASE)\, and their partners came together for an evening of lively conversations\, new connections\, and a shared appreciation for art. \nA heartfelt thank you to everyone who joined us. We’re excited to see even more of you at our future events as we continue to grow this incredible community. 🥂 \nHere’s to a season of growth\, learning\, and lasting connections!
URL:https://bbs.ase.ro/event/forever-alumni-artmark/
LOCATION:Artmak\, Str. C.A. Rosetti 5\, Bucharest\, Bucharest\, Romania
CATEGORIES:BBS Event
ATTACH;FMTTYPE=image/jpeg:https://bbs.ase.ro/wp-content/uploads/2025/07/artmark-e1752739949182.jpg
ORGANIZER;CN="Bucharest Business School":MAILTO:office@bbs.ase.ro
END:VEVENT
END:VCALENDAR