BEGIN:VCALENDAR
VERSION:2.0
PRODID:-//Bucharest Business School - ECPv6.15.20//NONSGML v1.0//EN
CALSCALE:GREGORIAN
METHOD:PUBLISH
X-WR-CALNAME:Bucharest Business School
X-ORIGINAL-URL:https://bbs.ase.ro
X-WR-CALDESC:Events for Bucharest Business School
REFRESH-INTERVAL;VALUE=DURATION:PT1H
X-Robots-Tag:noindex
X-PUBLISHED-TTL:PT1H
BEGIN:VTIMEZONE
TZID:Europe/Bucharest
BEGIN:DAYLIGHT
TZOFFSETFROM:+0200
TZOFFSETTO:+0300
TZNAME:EEST
DTSTART:20240331T010000
END:DAYLIGHT
BEGIN:STANDARD
TZOFFSETFROM:+0300
TZOFFSETTO:+0200
TZNAME:EET
DTSTART:20241027T010000
END:STANDARD
BEGIN:DAYLIGHT
TZOFFSETFROM:+0200
TZOFFSETTO:+0300
TZNAME:EEST
DTSTART:20250330T010000
END:DAYLIGHT
BEGIN:STANDARD
TZOFFSETFROM:+0300
TZOFFSETTO:+0200
TZNAME:EET
DTSTART:20251026T010000
END:STANDARD
BEGIN:DAYLIGHT
TZOFFSETFROM:+0200
TZOFFSETTO:+0300
TZNAME:EEST
DTSTART:20260329T010000
END:DAYLIGHT
BEGIN:STANDARD
TZOFFSETFROM:+0300
TZOFFSETTO:+0200
TZNAME:EET
DTSTART:20261025T010000
END:STANDARD
END:VTIMEZONE
BEGIN:VEVENT
DTSTART;TZID=Europe/Bucharest:20250523T090000
DTEND;TZID=Europe/Bucharest:20250523T130000
DTSTAMP:20260419T212736
CREATED:20250417T175601Z
LAST-MODIFIED:20250909T194036Z
UID:8823-1747990800-1748005200@bbs.ase.ro
SUMMARY:ARBE 2025 - Future Economy Summit
DESCRIPTION:Where\nCREATIVE\nLeaders\nShape\nWhat’s Next  We’re excited to launch the first edition of the ARBE Creative MBA Summits – a half-day event designed to be fast-paced\, insight-packed\, and highly engaging. \nThis isn’t a traditional conference. It’s a dynamic experience where every minute counts. We know your time is valuable\, so we’ve built a format that respects it: each speaker will have just 15 minutes to deliver their sharpest insights\, boldest ideas\, and most relevant tools. \nExpect a high-energy mix of keynotes\, debates\, and an inspiring panel discussion – all focused on the future of creative leadership at the intersection of technology\, strategy\, and human insight. \nJoin us for a conference that doesn’t just talk about change. It builds it. \nAt a glance: \n\nOne panel\nOne research presentations\nTwo expert-led sessions grounded in real-world experience\nOne debate\n\n09:00 RegistrationRegistration time … please wait in queue09:30 Opening speech\n \nCOSTIN CIORA\n// Event Moderator\nBBS Knowledge Hub Coordinator \n  \n \n\nVASILE STRAT\nDean of Bucharest Business School \n  \n \n\nDALIA BOLOGAN\nCREATIVE & CULTURE MBA Director \n09:45 PANEL // Theme: Arts & Commerce\nIf you are ready to get details about our personalised approach to the application process get in touch with CREATIVE MBA team! \n10:30 PRESENTATION // Trends in the Cultural Consumption \nIf you are ready to get details about our personalised approach to the application process get in touch with CREATIVE MBA team!10:50 PRESENTATION // Event Management & Entertainment - Overview and Challenges\n \nIf you are ready to get details about our personalised approach to the application process get in touch with CREATIVE MBA team! \n11:10 Coffee Break (10 minutes)After work\, a good break is welcomed11:20 DEBATE // Anticipating Tomorrow: The Evolving Needs of Creative Enterprises\n \nIf you are ready to get details about our personalised approach to the application process get in touch with CREATIVE MBA team! \n12:00 PRESENTATION // FutureMinds: Foresight & Innovation for Tomorrow’s Creative Leaders\n \nIf you are ready to get details about our personalised approach to the application process get in touch with CREATIVE MBA team! \n12:20 PRESENTATION // Key Costs of using AI in Creative Work. Practitioners’ Perspective\nIf you are ready to get details about our personalised approach to the application process get in touch with CREATIVE MBA team! \n12:40 Wrap-up & Conclusions\n… and now it’s time to part \nAre you ready?\nSecure your spot now!\n(Limited seats available – early registration is recommended) \nRegister here!
URL:https://bbs.ase.ro/event/arbe-2025-future-economy-summit/
LOCATION:ASE Aula Magna\, 6 Piata Romana\, Bucharest\, District 1\, 01037\, Romania
CATEGORIES:BBS Event,CREATIVE MBA
ATTACH;FMTTYPE=image/jpeg:https://bbs.ase.ro/wp-content/uploads/2025/04/arbe25bkg.jpg
ORGANIZER;CN="CREATIVE MBA | BBS":MAILTO:creative@bbs.ase.ro
END:VEVENT
END:VCALENDAR